BEGIN:VCALENDAR
VERSION:2.0
PRODID:-//KW Rainbow Network - ECPv6.2.0.1//NONSGML v1.0//EN
CALSCALE:GREGORIAN
METHOD:PUBLISH
X-WR-CALNAME:KW Rainbow Network
X-ORIGINAL-URL:https://www.kwrainbownetwork.com
X-WR-CALDESC:Events for KW Rainbow Network
REFRESH-INTERVAL;VALUE=DURATION:PT1H
X-Robots-Tag:noindex
X-PUBLISHED-TTL:PT1H
BEGIN:VTIMEZONE
TZID:America/New_York
BEGIN:DAYLIGHT
TZOFFSETFROM:-0500
TZOFFSETTO:-0400
TZNAME:EDT
DTSTART:20220313T070000
END:DAYLIGHT
BEGIN:STANDARD
TZOFFSETFROM:-0400
TZOFFSETTO:-0500
TZNAME:EST
DTSTART:20221106T060000
END:STANDARD
BEGIN:DAYLIGHT
TZOFFSETFROM:-0500
TZOFFSETTO:-0400
TZNAME:EDT
DTSTART:20230312T070000
END:DAYLIGHT
BEGIN:STANDARD
TZOFFSETFROM:-0400
TZOFFSETTO:-0500
TZNAME:EST
DTSTART:20231105T060000
END:STANDARD
TZID:America/New_York
BEGIN:DAYLIGHT
TZOFFSETFROM:-0500
TZOFFSETTO:-0400
TZNAME:EDT
DTSTART:20220313T070000
END:DAYLIGHT
BEGIN:STANDARD
TZOFFSETFROM:-0400
TZOFFSETTO:-0500
TZNAME:EST
DTSTART:20221106T060000
END:STANDARD
BEGIN:DAYLIGHT
TZOFFSETFROM:-0500
TZOFFSETTO:-0400
TZNAME:EDT
DTSTART:20230312T070000
END:DAYLIGHT
BEGIN:STANDARD
TZOFFSETFROM:-0400
TZOFFSETTO:-0500
TZNAME:EST
DTSTART:20231105T060000
END:STANDARD
END:VTIMEZONE
BEGIN:VEVENT
DTSTART;TZID=America/New_York:20230214T153000
DTEND;TZID=America/New_York:20230214T163000
DTSTAMP:20260425T084523
CREATED:20210312T180904Z
LAST-MODIFIED:20220624T165211Z
UID:4145-1676388600-1676392200@www.kwrainbownetwork.com
SUMMARY:Marketing & Promotions Committee
DESCRIPTION:Please login to view event details
URL:https://www.kwrainbownetwork.com/event/marketing-promotions-committee-2021-09-21-2023-02-14/
END:VEVENT
BEGIN:VEVENT
DTSTART;TZID=America/New_York:20230125T130000
DTEND;TZID=America/New_York:20230125T140000
DTSTAMP:20260425T084523
CREATED:20210317T164344Z
LAST-MODIFIED:20220626T162325Z
UID:4803-1674651600-1674655200@www.kwrainbownetwork.com
SUMMARY:Diversity Committee
DESCRIPTION:Please login to view event details
URL:https://www.kwrainbownetwork.com/event/diversity-committee-2023-01-25/
CATEGORIES:Diversity,zoom
ATTACH;FMTTYPE=image/png:https://www.kwrainbownetwork.com/wp-content/uploads/2021/03/diversity-image.png
END:VEVENT
BEGIN:VEVENT
DTSTART;TZID=America/New_York:20230110T153000
DTEND;TZID=America/New_York:20230110T163000
DTSTAMP:20260425T084523
CREATED:20210312T180904Z
LAST-MODIFIED:20220624T165211Z
UID:2930-1673364600-1673368200@www.kwrainbownetwork.com
SUMMARY:Marketing & Promotions Committee
DESCRIPTION:Please login to view event details
URL:https://www.kwrainbownetwork.com/event/marketing-promotions-committee-2021-09-21-2023-01-10/
END:VEVENT
BEGIN:VEVENT
DTSTART;TZID=America/New_York:20221228T130000
DTEND;TZID=America/New_York:20221228T140000
DTSTAMP:20260425T084523
CREATED:20210317T164344Z
LAST-MODIFIED:20220626T162324Z
UID:4802-1672232400-1672236000@www.kwrainbownetwork.com
SUMMARY:Diversity Committee
DESCRIPTION:Please login to view event details
URL:https://www.kwrainbownetwork.com/event/diversity-committee-2022-12-28/
CATEGORIES:Diversity,zoom
ATTACH;FMTTYPE=image/png:https://www.kwrainbownetwork.com/wp-content/uploads/2021/03/diversity-image.png
END:VEVENT
BEGIN:VEVENT
DTSTART;TZID=America/New_York:20221222T170000
DTEND;TZID=America/New_York:20221222T180000
DTSTAMP:20260425T084523
CREATED:20210312T201919Z
LAST-MODIFIED:20210312T201919Z
UID:7007-1671728400-1671732000@www.kwrainbownetwork.com
SUMMARY:Growth & Membership Committee
DESCRIPTION:Please login to view event details
URL:https://www.kwrainbownetwork.com/event/growth-membership-committee-2022-12-22/
END:VEVENT
BEGIN:VEVENT
DTSTART;TZID=America/New_York:20221213T153000
DTEND;TZID=America/New_York:20221213T163000
DTSTAMP:20260425T084523
CREATED:20210312T180904Z
LAST-MODIFIED:20220624T165211Z
UID:2769-1670945400-1670949000@www.kwrainbownetwork.com
SUMMARY:Marketing & Promotions Committee
DESCRIPTION:Please login to view event details
URL:https://www.kwrainbownetwork.com/event/marketing-promotions-committee-2021-09-21-2022-12-13/
END:VEVENT
BEGIN:VEVENT
DTSTART;TZID=America/New_York:20221124T170000
DTEND;TZID=America/New_York:20221124T180000
DTSTAMP:20260425T084523
CREATED:20210312T201919Z
LAST-MODIFIED:20210312T201919Z
UID:7006-1669309200-1669312800@www.kwrainbownetwork.com
SUMMARY:Growth & Membership Committee
DESCRIPTION:Please login to view event details
URL:https://www.kwrainbownetwork.com/event/growth-membership-committee-2022-11-24/
END:VEVENT
BEGIN:VEVENT
DTSTART;TZID=America/New_York:20221123T170000
DTEND;TZID=America/New_York:20221123T180000
DTSTAMP:20260425T084523
CREATED:20210311T203547Z
LAST-MODIFIED:20220611T195543Z
UID:2760-1669222800-1669226400@www.kwrainbownetwork.com
SUMMARY:Education & Professional Development Committee
DESCRIPTION:Please login to view event details
URL:https://www.kwrainbownetwork.com/event/education-committee-2021-12-22-2022-11-23/
END:VEVENT
BEGIN:VEVENT
DTSTART;TZID=America/New_York:20221123T130000
DTEND;TZID=America/New_York:20221123T140000
DTSTAMP:20260425T084523
CREATED:20210317T164344Z
LAST-MODIFIED:20220626T162324Z
UID:4801-1669208400-1669212000@www.kwrainbownetwork.com
SUMMARY:Diversity Committee
DESCRIPTION:Please login to view event details
URL:https://www.kwrainbownetwork.com/event/diversity-committee-2022-11-23/
CATEGORIES:Diversity,zoom
ATTACH;FMTTYPE=image/png:https://www.kwrainbownetwork.com/wp-content/uploads/2021/03/diversity-image.png
END:VEVENT
BEGIN:VEVENT
DTSTART;TZID=America/New_York:20221108T153000
DTEND;TZID=America/New_York:20221108T163000
DTSTAMP:20260425T084523
CREATED:20210312T180904Z
LAST-MODIFIED:20220624T165210Z
UID:2716-1667921400-1667925000@www.kwrainbownetwork.com
SUMMARY:Marketing & Promotions Committee
DESCRIPTION:Please login to view event details
URL:https://www.kwrainbownetwork.com/event/marketing-promotions-committee-2021-09-21-2022-11-08/
END:VEVENT
BEGIN:VEVENT
DTSTART;TZID=America/New_York:20221027T170000
DTEND;TZID=America/New_York:20221027T180000
DTSTAMP:20260425T084523
CREATED:20210312T201919Z
LAST-MODIFIED:20210312T201919Z
UID:7005-1666890000-1666893600@www.kwrainbownetwork.com
SUMMARY:Growth & Membership Committee
DESCRIPTION:Please login to view event details
URL:https://www.kwrainbownetwork.com/event/growth-membership-committee-2022-10-27/
END:VEVENT
BEGIN:VEVENT
DTSTART;TZID=America/New_York:20221026T170000
DTEND;TZID=America/New_York:20221026T180000
DTSTAMP:20260425T084523
CREATED:20210311T203547Z
LAST-MODIFIED:20220611T195543Z
UID:2739-1666803600-1666807200@www.kwrainbownetwork.com
SUMMARY:Education & Professional Development Committee
DESCRIPTION:Please login to view event details
URL:https://www.kwrainbownetwork.com/event/education-committee-2021-12-22-2022-10-26/
END:VEVENT
BEGIN:VEVENT
DTSTART;TZID=America/New_York:20221026T130000
DTEND;TZID=America/New_York:20221026T140000
DTSTAMP:20260425T084523
CREATED:20210317T164344Z
LAST-MODIFIED:20220626T162324Z
UID:4800-1666789200-1666792800@www.kwrainbownetwork.com
SUMMARY:Diversity Committee
DESCRIPTION:Please login to view event details
URL:https://www.kwrainbownetwork.com/event/diversity-committee-2022-10-26/
CATEGORIES:Diversity,zoom
ATTACH;FMTTYPE=image/png:https://www.kwrainbownetwork.com/wp-content/uploads/2021/03/diversity-image.png
END:VEVENT
BEGIN:VEVENT
DTSTART;TZID=America/New_York:20221011T153000
DTEND;TZID=America/New_York:20221011T163000
DTSTAMP:20260425T084523
CREATED:20210312T180904Z
LAST-MODIFIED:20220624T165210Z
UID:2700-1665502200-1665505800@www.kwrainbownetwork.com
SUMMARY:Marketing & Promotions Committee
DESCRIPTION:Please login to view event details
URL:https://www.kwrainbownetwork.com/event/marketing-promotions-committee-2021-09-21-2022-10-11/
END:VEVENT
BEGIN:VEVENT
DTSTART;TZID=America/New_York:20220928T170000
DTEND;TZID=America/New_York:20220928T180000
DTSTAMP:20260425T084523
CREATED:20210311T203547Z
LAST-MODIFIED:20220611T195543Z
UID:2738-1664384400-1664388000@www.kwrainbownetwork.com
SUMMARY:Education & Professional Development Committee
DESCRIPTION:Please login to view event details
URL:https://www.kwrainbownetwork.com/event/education-committee-2021-12-22-2022-09-28/
END:VEVENT
BEGIN:VEVENT
DTSTART;TZID=America/New_York:20220928T130000
DTEND;TZID=America/New_York:20220928T140000
DTSTAMP:20260425T084523
CREATED:20210317T164344Z
LAST-MODIFIED:20220626T162324Z
UID:4799-1664370000-1664373600@www.kwrainbownetwork.com
SUMMARY:Diversity Committee
DESCRIPTION:Please login to view event details
URL:https://www.kwrainbownetwork.com/event/diversity-committee-2022-09-28/
CATEGORIES:Diversity,zoom
ATTACH;FMTTYPE=image/png:https://www.kwrainbownetwork.com/wp-content/uploads/2021/03/diversity-image.png
END:VEVENT
BEGIN:VEVENT
DTSTART;TZID=America/New_York:20220922T170000
DTEND;TZID=America/New_York:20220922T180000
DTSTAMP:20260425T084523
CREATED:20210312T201919Z
LAST-MODIFIED:20210312T201919Z
UID:7004-1663866000-1663869600@www.kwrainbownetwork.com
SUMMARY:Growth & Membership Committee
DESCRIPTION:Please login to view event details
URL:https://www.kwrainbownetwork.com/event/growth-membership-committee-2022-09-22/
END:VEVENT
BEGIN:VEVENT
DTSTART;TZID=America/New_York:20220913T153000
DTEND;TZID=America/New_York:20220913T163000
DTSTAMP:20260425T084523
CREATED:20210312T180904Z
LAST-MODIFIED:20220624T165209Z
UID:2692-1663083000-1663086600@www.kwrainbownetwork.com
SUMMARY:Marketing & Promotions Committee
DESCRIPTION:Please login to view event details
URL:https://www.kwrainbownetwork.com/event/marketing-promotions-committee-2021-09-21-2022-09-13/
END:VEVENT
BEGIN:VEVENT
DTSTART;TZID=America/New_York:20220825T170000
DTEND;TZID=America/New_York:20220825T180000
DTSTAMP:20260425T084523
CREATED:20210312T201919Z
LAST-MODIFIED:20210312T201919Z
UID:7003-1661446800-1661450400@www.kwrainbownetwork.com
SUMMARY:Growth & Membership Committee
DESCRIPTION:Please login to view event details
URL:https://www.kwrainbownetwork.com/event/growth-membership-committee-2022-08-25/
END:VEVENT
BEGIN:VEVENT
DTSTART;TZID=America/New_York:20220824T170000
DTEND;TZID=America/New_York:20220824T180000
DTSTAMP:20260425T084523
CREATED:20210311T203547Z
LAST-MODIFIED:20220611T195542Z
UID:2737-1661360400-1661364000@www.kwrainbownetwork.com
SUMMARY:Education & Professional Development Committee
DESCRIPTION:Please login to view event details
URL:https://www.kwrainbownetwork.com/event/education-committee-2021-12-22-2022-08-24/
END:VEVENT
BEGIN:VEVENT
DTSTART;TZID=America/New_York:20220824T130000
DTEND;TZID=America/New_York:20220824T140000
DTSTAMP:20260425T084523
CREATED:20210317T164344Z
LAST-MODIFIED:20220626T162324Z
UID:4798-1661346000-1661349600@www.kwrainbownetwork.com
SUMMARY:Diversity Committee
DESCRIPTION:Please login to view event details
URL:https://www.kwrainbownetwork.com/event/diversity-committee-2022-08-24/
CATEGORIES:Diversity,zoom
ATTACH;FMTTYPE=image/png:https://www.kwrainbownetwork.com/wp-content/uploads/2021/03/diversity-image.png
END:VEVENT
BEGIN:VEVENT
DTSTART;TZID=America/New_York:20220822T173000
DTEND;TZID=America/New_York:20220822T193000
DTSTAMP:20260425T084523
CREATED:20220720T234930Z
LAST-MODIFIED:20220720T235303Z
UID:7206-1661189400-1661196600@www.kwrainbownetwork.com
SUMMARY:Rainbow Mixer - MegaCamp 2022
DESCRIPTION:Please login to view event details
URL:https://www.kwrainbownetwork.com/event/megacamp-mixer/
CATEGORIES:Featured Events,mixer,networking
END:VEVENT
BEGIN:VEVENT
DTSTART;TZID=America/New_York:20220822T090000
DTEND;TZID=America/New_York:20220822T153000
DTSTAMP:20260425T084523
CREATED:20220718T212921Z
LAST-MODIFIED:20220720T235548Z
UID:7195-1661158800-1661182200@www.kwrainbownetwork.com
SUMMARY:Rainbow Camp - Day 2
DESCRIPTION:Please login to view event details
URL:https://www.kwrainbownetwork.com/event/rainbowcamp2022-day2/
CATEGORIES:Featured Events
END:VEVENT
BEGIN:VEVENT
DTSTART;TZID=America/New_York:20220821T103000
DTEND;TZID=America/New_York:20220821T180000
DTSTAMP:20260425T084523
CREATED:20220718T190523Z
LAST-MODIFIED:20220720T235808Z
UID:7187-1661077800-1661104800@www.kwrainbownetwork.com
SUMMARY:Rainbow Camp - Day 1
DESCRIPTION:Please login to view event details
URL:https://www.kwrainbownetwork.com/event/rainbowcamp2022/
CATEGORIES:Featured Events
END:VEVENT
BEGIN:VEVENT
DTSTART;TZID=America/New_York:20220809T153000
DTEND;TZID=America/New_York:20220809T163000
DTSTAMP:20260425T084523
CREATED:20210312T180904Z
LAST-MODIFIED:20220624T165204Z
UID:2665-1660059000-1660062600@www.kwrainbownetwork.com
SUMMARY:Marketing & Promotions Committee
DESCRIPTION:Please login to view event details
URL:https://www.kwrainbownetwork.com/event/marketing-promotions-committee-2021-09-21-2022-08-09/
END:VEVENT
BEGIN:VEVENT
DTSTART;TZID=America/New_York:20220728T170000
DTEND;TZID=America/New_York:20220728T180000
DTSTAMP:20260425T084523
CREATED:20210312T201919Z
LAST-MODIFIED:20210312T201919Z
UID:7002-1659027600-1659031200@www.kwrainbownetwork.com
SUMMARY:Growth & Membership Committee
DESCRIPTION:Please login to view event details
URL:https://www.kwrainbownetwork.com/event/growth-membership-committee-2022-07-28/
END:VEVENT
BEGIN:VEVENT
DTSTART;TZID=America/New_York:20220727T170000
DTEND;TZID=America/New_York:20220727T180000
DTSTAMP:20260425T084523
CREATED:20210311T203547Z
LAST-MODIFIED:20220611T195542Z
UID:2736-1658941200-1658944800@www.kwrainbownetwork.com
SUMMARY:Education & Professional Development Committee
DESCRIPTION:Please login to view event details
URL:https://www.kwrainbownetwork.com/event/education-committee-2021-12-22-2022-07-27/
END:VEVENT
BEGIN:VEVENT
DTSTART;TZID=America/New_York:20220727T130000
DTEND;TZID=America/New_York:20220727T140000
DTSTAMP:20260425T084523
CREATED:20210317T164344Z
LAST-MODIFIED:20220626T162323Z
UID:4797-1658926800-1658930400@www.kwrainbownetwork.com
SUMMARY:Diversity Committee
DESCRIPTION:Please login to view event details
URL:https://www.kwrainbownetwork.com/event/diversity-committee-2022-07-27/
CATEGORIES:Diversity,zoom
ATTACH;FMTTYPE=image/png:https://www.kwrainbownetwork.com/wp-content/uploads/2021/03/diversity-image.png
END:VEVENT
BEGIN:VEVENT
DTSTART;TZID=America/New_York:20220712T153000
DTEND;TZID=America/New_York:20220712T163000
DTSTAMP:20260425T084523
CREATED:20210312T180904Z
LAST-MODIFIED:20220624T165204Z
UID:2664-1657639800-1657643400@www.kwrainbownetwork.com
SUMMARY:Marketing & Promotions Committee
DESCRIPTION:Please login to view event details
URL:https://www.kwrainbownetwork.com/event/marketing-promotions-committee-2021-09-21-2022-07-12/
END:VEVENT
BEGIN:VEVENT
DTSTART;TZID=America/New_York:20220623T170000
DTEND;TZID=America/New_York:20220623T180000
DTSTAMP:20260425T084523
CREATED:20210312T201919Z
LAST-MODIFIED:20210312T201919Z
UID:7001-1656003600-1656007200@www.kwrainbownetwork.com
SUMMARY:Growth & Membership Committee
DESCRIPTION:Please login to view event details
URL:https://www.kwrainbownetwork.com/event/growth-membership-committee-2022-06-23/
END:VEVENT
END:VCALENDAR