BEGIN:VCALENDAR
VERSION:2.0
PRODID:-//KW Rainbow Network - ECPv6.2.0.1//NONSGML v1.0//EN
CALSCALE:GREGORIAN
METHOD:PUBLISH
X-WR-CALNAME:KW Rainbow Network
X-ORIGINAL-URL:https://www.kwrainbownetwork.com
X-WR-CALDESC:Events for KW Rainbow Network
REFRESH-INTERVAL;VALUE=DURATION:PT1H
X-Robots-Tag:noindex
X-PUBLISHED-TTL:PT1H
BEGIN:VTIMEZONE
TZID:America/New_York
BEGIN:DAYLIGHT
TZOFFSETFROM:-0500
TZOFFSETTO:-0400
TZNAME:EDT
DTSTART:20220313T070000
END:DAYLIGHT
BEGIN:STANDARD
TZOFFSETFROM:-0400
TZOFFSETTO:-0500
TZNAME:EST
DTSTART:20221106T060000
END:STANDARD
TZID:America/New_York
BEGIN:DAYLIGHT
TZOFFSETFROM:-0500
TZOFFSETTO:-0400
TZNAME:EDT
DTSTART:20210314T070000
END:DAYLIGHT
BEGIN:STANDARD
TZOFFSETFROM:-0400
TZOFFSETTO:-0500
TZNAME:EST
DTSTART:20211107T060000
END:STANDARD
BEGIN:DAYLIGHT
TZOFFSETFROM:-0500
TZOFFSETTO:-0400
TZNAME:EDT
DTSTART:20220313T070000
END:DAYLIGHT
BEGIN:STANDARD
TZOFFSETFROM:-0400
TZOFFSETTO:-0500
TZNAME:EST
DTSTART:20221106T060000
END:STANDARD
END:VTIMEZONE
BEGIN:VEVENT
DTSTART;TZID=America/New_York:20220518T120000
DTEND;TZID=America/New_York:20220518T130000
DTSTAMP:20260425T092041
CREATED:20201118T232741Z
LAST-MODIFIED:20220312T033712Z
UID:4623-1652875200-1652878800@www.kwrainbownetwork.com
SUMMARY:KWRN Mastermind Zoom
DESCRIPTION:Please login to view event details
URL:https://www.kwrainbownetwork.com/event/kw-rainbow-networking-zoom-2021-04-07-2022-03-09-2022-03-23-2022-05-18/
CATEGORIES:Featured Events,mastermind,networking,zoom
ATTACH;FMTTYPE=image/png:https://www.kwrainbownetwork.com/wp-content/uploads/2020/06/KWRN_Zoom_FB-Post-e1646961075935.png
END:VEVENT
BEGIN:VEVENT
DTSTART;TZID=America/New_York:20220511T120000
DTEND;TZID=America/New_York:20220511T130000
DTSTAMP:20260425T092041
CREATED:20201118T232741Z
LAST-MODIFIED:20220312T033712Z
UID:4622-1652270400-1652274000@www.kwrainbownetwork.com
SUMMARY:KWRN Mastermind Zoom
DESCRIPTION:Please login to view event details
URL:https://www.kwrainbownetwork.com/event/kw-rainbow-networking-zoom-2021-04-07-2022-03-09-2022-03-23-2022-05-11/
CATEGORIES:Featured Events,mastermind,networking,zoom
ATTACH;FMTTYPE=image/png:https://www.kwrainbownetwork.com/wp-content/uploads/2020/06/KWRN_Zoom_FB-Post-e1646961075935.png
END:VEVENT
BEGIN:VEVENT
DTSTART;TZID=America/New_York:20220510T153000
DTEND;TZID=America/New_York:20220510T163000
DTSTAMP:20260425T092041
CREATED:20210312T180904Z
LAST-MODIFIED:20220624T165204Z
UID:2662-1652196600-1652200200@www.kwrainbownetwork.com
SUMMARY:Marketing & Promotions Committee
DESCRIPTION:Please login to view event details
URL:https://www.kwrainbownetwork.com/event/marketing-promotions-committee-2021-09-21-2022-05-10/
END:VEVENT
BEGIN:VEVENT
DTSTART;TZID=America/New_York:20220504T120000
DTEND;TZID=America/New_York:20220504T130000
DTSTAMP:20260425T092041
CREATED:20201118T232741Z
LAST-MODIFIED:20220312T033712Z
UID:4621-1651665600-1651669200@www.kwrainbownetwork.com
SUMMARY:KWRN Mastermind Zoom
DESCRIPTION:Please login to view event details
URL:https://www.kwrainbownetwork.com/event/kw-rainbow-networking-zoom-2021-04-07-2022-03-09-2022-03-23-2022-05-04/
CATEGORIES:Featured Events,mastermind,networking,zoom
ATTACH;FMTTYPE=image/png:https://www.kwrainbownetwork.com/wp-content/uploads/2020/06/KWRN_Zoom_FB-Post-e1646961075935.png
END:VEVENT
BEGIN:VEVENT
DTSTART;TZID=America/New_York:20220428T170000
DTEND;TZID=America/New_York:20220428T180000
DTSTAMP:20260425T092041
CREATED:20210312T201919Z
LAST-MODIFIED:20210312T201919Z
UID:6999-1651165200-1651168800@www.kwrainbownetwork.com
SUMMARY:Growth & Membership Committee
DESCRIPTION:Please login to view event details
URL:https://www.kwrainbownetwork.com/event/growth-membership-committee-2022-04-28/
END:VEVENT
BEGIN:VEVENT
DTSTART;TZID=America/New_York:20220427T170000
DTEND;TZID=America/New_York:20220427T180000
DTSTAMP:20260425T092041
CREATED:20210311T203547Z
LAST-MODIFIED:20220611T195537Z
UID:2733-1651078800-1651082400@www.kwrainbownetwork.com
SUMMARY:Education & Professional Development Committee
DESCRIPTION:Please login to view event details
URL:https://www.kwrainbownetwork.com/event/education-committee-2021-12-22-2022-04-27/
END:VEVENT
BEGIN:VEVENT
DTSTART;TZID=America/New_York:20220427T130000
DTEND;TZID=America/New_York:20220427T140000
DTSTAMP:20260425T092041
CREATED:20210317T164344Z
LAST-MODIFIED:20220626T162323Z
UID:4794-1651064400-1651068000@www.kwrainbownetwork.com
SUMMARY:Diversity Committee
DESCRIPTION:Please login to view event details
URL:https://www.kwrainbownetwork.com/event/diversity-committee-2022-04-27/
CATEGORIES:Diversity,zoom
ATTACH;FMTTYPE=image/png:https://www.kwrainbownetwork.com/wp-content/uploads/2021/03/diversity-image.png
END:VEVENT
BEGIN:VEVENT
DTSTART;TZID=America/New_York:20220427T120000
DTEND;TZID=America/New_York:20220427T130000
DTSTAMP:20260425T092041
CREATED:20201118T232741Z
LAST-MODIFIED:20220422T185303Z
UID:4577-1651060800-1651064400@www.kwrainbownetwork.com
SUMMARY:Mastermind - Guest Mark King
DESCRIPTION:Please login to view event details
URL:https://www.kwrainbownetwork.com/event/kw-rainbow-networking-zoom-2021-04-07-2022-03-09-2022-03-23-2022-04-27/
CATEGORIES:Featured Events,mastermind,networking,zoom
ATTACH;FMTTYPE=image/png:https://www.kwrainbownetwork.com/wp-content/uploads/2020/06/KWRN_Zoom_FB-Post-e1646961075935.png
END:VEVENT
BEGIN:VEVENT
DTSTART;TZID=America/New_York:20220420T120000
DTEND;TZID=America/New_York:20220420T130000
DTSTAMP:20260425T092041
CREATED:20201118T232741Z
LAST-MODIFIED:20220312T033711Z
UID:4576-1650456000-1650459600@www.kwrainbownetwork.com
SUMMARY:KWRN Mastermind Zoom
DESCRIPTION:Please login to view event details
URL:https://www.kwrainbownetwork.com/event/kw-rainbow-networking-zoom-2021-04-07-2022-03-09-2022-03-23-2022-04-20/
CATEGORIES:Featured Events,mastermind,networking,zoom
ATTACH;FMTTYPE=image/png:https://www.kwrainbownetwork.com/wp-content/uploads/2020/06/KWRN_Zoom_FB-Post-e1646961075935.png
END:VEVENT
BEGIN:VEVENT
DTSTART;TZID=America/New_York:20220413T120000
DTEND;TZID=America/New_York:20220413T130000
DTSTAMP:20260425T092041
CREATED:20201118T232741Z
LAST-MODIFIED:20220312T033711Z
UID:4575-1649851200-1649854800@www.kwrainbownetwork.com
SUMMARY:KWRN Mastermind Zoom
DESCRIPTION:Please login to view event details
URL:https://www.kwrainbownetwork.com/event/kw-rainbow-networking-zoom-2021-04-07-2022-03-09-2022-03-23-2022-04-13/
CATEGORIES:Featured Events,mastermind,networking,zoom
ATTACH;FMTTYPE=image/png:https://www.kwrainbownetwork.com/wp-content/uploads/2020/06/KWRN_Zoom_FB-Post-e1646961075935.png
END:VEVENT
BEGIN:VEVENT
DTSTART;TZID=America/New_York:20220412T153000
DTEND;TZID=America/New_York:20220412T163000
DTSTAMP:20260425T092041
CREATED:20210312T180904Z
LAST-MODIFIED:20220624T165204Z
UID:2661-1649777400-1649781000@www.kwrainbownetwork.com
SUMMARY:Marketing & Promotions Committee
DESCRIPTION:Please login to view event details
URL:https://www.kwrainbownetwork.com/event/marketing-promotions-committee-2021-09-21-2022-04-12/
END:VEVENT
BEGIN:VEVENT
DTSTART;TZID=America/New_York:20220406T150000
DTEND;TZID=America/New_York:20220406T163000
DTSTAMP:20260425T092041
CREATED:20220330T172020Z
LAST-MODIFIED:20220330T185440Z
UID:6683-1649257200-1649262600@www.kwrainbownetwork.com
SUMMARY:The Color of Real Estate
DESCRIPTION:Please login to view event details
URL:https://www.kwrainbownetwork.com/event/colorofrealestate/
CATEGORIES:Diversity,Featured Events,zoom
ATTACH;FMTTYPE=image/png:https://www.kwrainbownetwork.com/wp-content/uploads/2022/03/Color-of-Real-Estate_nolink.png
END:VEVENT
BEGIN:VEVENT
DTSTART;TZID=America/New_York:20220406T120000
DTEND;TZID=America/New_York:20220406T130000
DTSTAMP:20260425T092041
CREATED:20201118T232741Z
LAST-MODIFIED:20220312T033711Z
UID:4574-1649246400-1649250000@www.kwrainbownetwork.com
SUMMARY:KWRN Mastermind Zoom
DESCRIPTION:Please login to view event details
URL:https://www.kwrainbownetwork.com/event/kw-rainbow-networking-zoom-2021-04-07-2022-03-09-2022-03-23-2022-04-06/
CATEGORIES:Featured Events,mastermind,networking,zoom
ATTACH;FMTTYPE=image/png:https://www.kwrainbownetwork.com/wp-content/uploads/2020/06/KWRN_Zoom_FB-Post-e1646961075935.png
END:VEVENT
BEGIN:VEVENT
DTSTART;TZID=America/New_York:20220405T110000
DTEND;TZID=America/New_York:20220405T123000
DTSTAMP:20260425T092041
CREATED:20220330T183823Z
LAST-MODIFIED:20220330T185517Z
UID:6699-1649156400-1649161800@www.kwrainbownetwork.com
SUMMARY:Unconscious Bias in Real Estate
DESCRIPTION:Please login to view event details
URL:https://www.kwrainbownetwork.com/event/unconciousbias/
CATEGORIES:Diversity,Featured Events,zoom
ATTACH;FMTTYPE=image/jpeg:https://www.kwrainbownetwork.com/wp-content/uploads/2022/03/UnconsciousBias_nolink.jpeg
END:VEVENT
BEGIN:VEVENT
DTSTART;TZID=America/New_York:20220330T120000
DTEND;TZID=America/New_York:20220330T130000
DTSTAMP:20260425T092041
CREATED:20201118T232741Z
LAST-MODIFIED:20220312T033711Z
UID:4573-1648641600-1648645200@www.kwrainbownetwork.com
SUMMARY:KWRN Mastermind Zoom
DESCRIPTION:Please login to view event details
URL:https://www.kwrainbownetwork.com/event/kw-rainbow-networking-zoom-2021-04-07-2022-03-09-2022-03-23-2022-03-30/
CATEGORIES:Featured Events,mastermind,networking,zoom
ATTACH;FMTTYPE=image/png:https://www.kwrainbownetwork.com/wp-content/uploads/2020/06/KWRN_Zoom_FB-Post-e1646961075935.png
END:VEVENT
BEGIN:VEVENT
DTSTART;TZID=America/New_York:20220324T170000
DTEND;TZID=America/New_York:20220324T180000
DTSTAMP:20260425T092041
CREATED:20210312T201919Z
LAST-MODIFIED:20210312T201919Z
UID:6998-1648141200-1648144800@www.kwrainbownetwork.com
SUMMARY:Growth & Membership Committee
DESCRIPTION:Please login to view event details
URL:https://www.kwrainbownetwork.com/event/growth-membership-committee-2022-03-24/
END:VEVENT
BEGIN:VEVENT
DTSTART;TZID=America/New_York:20220323T170000
DTEND;TZID=America/New_York:20220323T180000
DTSTAMP:20260425T092041
CREATED:20210311T203547Z
LAST-MODIFIED:20220611T195537Z
UID:2732-1648054800-1648058400@www.kwrainbownetwork.com
SUMMARY:Education & Professional Development Committee
DESCRIPTION:Please login to view event details
URL:https://www.kwrainbownetwork.com/event/education-committee-2021-12-22-2022-03-23/
END:VEVENT
BEGIN:VEVENT
DTSTART;TZID=America/New_York:20220323T130000
DTEND;TZID=America/New_York:20220323T140000
DTSTAMP:20260425T092041
CREATED:20210317T164344Z
LAST-MODIFIED:20220626T162323Z
UID:2136-1648040400-1648044000@www.kwrainbownetwork.com
SUMMARY:Diversity Committee
DESCRIPTION:Please login to view event details
URL:https://www.kwrainbownetwork.com/event/diversity-committee/
CATEGORIES:Diversity,zoom
ATTACH;FMTTYPE=image/png:https://www.kwrainbownetwork.com/wp-content/uploads/2021/03/diversity-image.png
END:VEVENT
BEGIN:VEVENT
DTSTART;TZID=America/New_York:20220323T120000
DTEND;TZID=America/New_York:20220323T130000
DTSTAMP:20260425T092041
CREATED:20201118T232741Z
LAST-MODIFIED:20220312T033711Z
UID:4696-1648036800-1648040400@www.kwrainbownetwork.com
SUMMARY:KWRN Mastermind Zoom
DESCRIPTION:Please login to view event details
URL:https://www.kwrainbownetwork.com/event/kw-rainbow-networking-zoom-2021-04-07-2022-03-09-2022-03-23-2022-03-23/
CATEGORIES:Featured Events,mastermind,networking,zoom
ATTACH;FMTTYPE=image/png:https://www.kwrainbownetwork.com/wp-content/uploads/2020/06/KWRN_Zoom_FB-Post-e1646961075935.png
END:VEVENT
BEGIN:VEVENT
DTSTART;TZID=America/New_York:20220316T120000
DTEND;TZID=America/New_York:20220316T130000
DTSTAMP:20260425T092041
CREATED:20201118T232741Z
LAST-MODIFIED:20220312T033711Z
UID:4569-1647432000-1647435600@www.kwrainbownetwork.com
SUMMARY:KWRN Mastermind Zoom
DESCRIPTION:Please login to view event details
URL:https://www.kwrainbownetwork.com/event/kw-rainbow-networking-zoom-2021-04-07-2022-03-09-2022-03-23/
CATEGORIES:Featured Events,mastermind,networking,zoom
ATTACH;FMTTYPE=image/png:https://www.kwrainbownetwork.com/wp-content/uploads/2020/06/KWRN_Zoom_FB-Post-e1646961075935.png
END:VEVENT
BEGIN:VEVENT
DTSTART;TZID=America/New_York:20220309T120000
DTEND;TZID=America/New_York:20220309T130000
DTSTAMP:20260425T092041
CREATED:20201118T232741Z
LAST-MODIFIED:20220310T202328Z
UID:2851-1646827200-1646830800@www.kwrainbownetwork.com
SUMMARY:Rainbow Networking Zoom
DESCRIPTION:Please login to view event details
URL:https://www.kwrainbownetwork.com/event/kw-rainbow-networking-zoom-2021-04-07-2022-03-09/
CATEGORIES:Featured Events,mastermind,networking,zoom
ATTACH;FMTTYPE=image/png:https://www.kwrainbownetwork.com/wp-content/uploads/2020/06/KWRN_Zoom_FB-Post-e1646961075935.png
END:VEVENT
BEGIN:VEVENT
DTSTART;TZID=America/New_York:20220309T120000
DTEND;TZID=America/New_York:20220309T130000
DTSTAMP:20260425T092041
CREATED:20201118T232741Z
LAST-MODIFIED:20220311T003055Z
UID:4593-1646827200-1646830800@www.kwrainbownetwork.com
SUMMARY:Rainbow Networking Zoom
DESCRIPTION:Please login to view event details
URL:https://www.kwrainbownetwork.com/event/kw-rainbow-networking-zoom-2021-04-07-2022-03-09-2/
CATEGORIES:Featured Events,mastermind,networking,zoom
ATTACH;FMTTYPE=image/png:https://www.kwrainbownetwork.com/wp-content/uploads/2020/06/KWRN_Zoom_FB-Post-e1646961075935.png
END:VEVENT
BEGIN:VEVENT
DTSTART;TZID=America/New_York:20220308T153000
DTEND;TZID=America/New_York:20220308T163000
DTSTAMP:20260425T092041
CREATED:20210312T180904Z
LAST-MODIFIED:20220624T165203Z
UID:2660-1646753400-1646757000@www.kwrainbownetwork.com
SUMMARY:Marketing & Promotions Committee
DESCRIPTION:Please login to view event details
URL:https://www.kwrainbownetwork.com/event/marketing-promotions-committee-2021-09-21-2022-03-08/
END:VEVENT
BEGIN:VEVENT
DTSTART;TZID=America/New_York:20220302T120000
DTEND;TZID=America/New_York:20220302T130000
DTSTAMP:20260425T092041
CREATED:20201118T232741Z
LAST-MODIFIED:20220311T003054Z
UID:2850-1646222400-1646226000@www.kwrainbownetwork.com
SUMMARY:Rainbow Networking Zoom
DESCRIPTION:Please login to view event details
URL:https://www.kwrainbownetwork.com/event/kw-rainbow-networking-zoom-2021-04-07-2022-03-02/
CATEGORIES:Featured Events,mastermind,networking,zoom
ATTACH;FMTTYPE=image/png:https://www.kwrainbownetwork.com/wp-content/uploads/2020/06/KWRN_Zoom_FB-Post-e1646961075935.png
END:VEVENT
BEGIN:VEVENT
DTSTART;TZID=America/New_York:20220225T130000
DTEND;TZID=America/New_York:20220225T140000
DTSTAMP:20260425T092041
CREATED:20220220T235648Z
LAST-MODIFIED:20220225T164546Z
UID:4229-1645794000-1645797600@www.kwrainbownetwork.com
SUMMARY:Diversity Committee Mastermind - Zoom
DESCRIPTION:Please login to view event details
URL:https://www.kwrainbownetwork.com/event/diversity-committee-mastermind/
CATEGORIES:Featured Events
ATTACH;FMTTYPE=image/jpeg:https://www.kwrainbownetwork.com/wp-content/uploads/2022/02/diversity-committe.jpg
END:VEVENT
BEGIN:VEVENT
DTSTART;TZID=America/New_York:20220219T090000
DTEND;TZID=America/New_York:20220219T120000
DTSTAMP:20260425T092041
CREATED:20220114T192159Z
LAST-MODIFIED:20220213T224407Z
UID:3134-1645261200-1645272000@www.kwrainbownetwork.com
SUMMARY:Rainbow Mastermind - KWFR '22
DESCRIPTION:Please login to view event details
URL:https://www.kwrainbownetwork.com/event/rainbow-mastermind-kwfr-22/
CATEGORIES:Featured Events
ATTACH;FMTTYPE=image/png:https://www.kwrainbownetwork.com/wp-content/uploads/2022/01/Mastermind.png
END:VEVENT
BEGIN:VEVENT
DTSTART;TZID=America/New_York:20220218T173000
DTEND;TZID=America/New_York:20220218T193000
DTSTAMP:20260425T092041
CREATED:20220114T015703Z
LAST-MODIFIED:20220114T204805Z
UID:3070-1645205400-1645212600@www.kwrainbownetwork.com
SUMMARY:KWRN - Mixer KWFR '22
DESCRIPTION:Please login to view event details
URL:https://www.kwrainbownetwork.com/event/kwrn-mixer-kwfr-22/
LOCATION:Orlando Convention Center\, 9400 Universal Blvd\, Orlando\, FL\, 32819\, United States
CATEGORIES:family reunion,Featured Events,mixer,networking
ATTACH;FMTTYPE=image/jpeg:https://www.kwrainbownetwork.com/wp-content/uploads/2022/01/Mixer-22.jpeg
END:VEVENT
BEGIN:VEVENT
DTSTART;TZID=America/New_York:20220217T100000
DTEND;TZID=America/New_York:20220217T170000
DTSTAMP:20260425T092041
CREATED:20220113T160640Z
LAST-MODIFIED:20220114T181907Z
UID:2932-1645092000-1645117200@www.kwrainbownetwork.com
SUMMARY:KWRN Disney Day
DESCRIPTION:Please login to view event details
URL:https://www.kwrainbownetwork.com/event/kwrn-disney-day/
CATEGORIES:Featured Events
ATTACH;FMTTYPE=image/png:https://www.kwrainbownetwork.com/wp-content/uploads/2022/01/DisneyDay.png
END:VEVENT
BEGIN:VEVENT
DTSTART;TZID=America/New_York:20210914T153000
DTEND;TZID=America/New_York:20210914T163000
DTSTAMP:20260425T092041
CREATED:20210312T180904Z
LAST-MODIFIED:20220624T165202Z
UID:2153-1631633400-1631637000@www.kwrainbownetwork.com
SUMMARY:Marketing & Promotions Committee
DESCRIPTION:Please login to view event details
URL:https://www.kwrainbownetwork.com/event/marketing-promotions-committee-2021-09-21/
END:VEVENT
BEGIN:VEVENT
DTSTART;TZID=America/New_York:20210810T153000
DTEND;TZID=America/New_York:20210810T163000
DTSTAMP:20260425T092041
CREATED:20210312T180904Z
LAST-MODIFIED:20210819T171108Z
UID:2151-1628609400-1628613000@www.kwrainbownetwork.com
SUMMARY:Marketing & Promotions Committee
DESCRIPTION:Please login to view event details
URL:https://www.kwrainbownetwork.com/event/marketing-promotions-committee-2021-08-10/
END:VEVENT
END:VCALENDAR