BEGIN:VCALENDAR
VERSION:2.0
PRODID:-//KW Rainbow Network - ECPv6.2.0.1//NONSGML v1.0//EN
CALSCALE:GREGORIAN
METHOD:PUBLISH
X-WR-CALNAME:KW Rainbow Network
X-ORIGINAL-URL:https://www.kwrainbownetwork.com
X-WR-CALDESC:Events for KW Rainbow Network
REFRESH-INTERVAL;VALUE=DURATION:PT1H
X-Robots-Tag:noindex
X-PUBLISHED-TTL:PT1H
BEGIN:VTIMEZONE
TZID:America/New_York
BEGIN:DAYLIGHT
TZOFFSETFROM:-0500
TZOFFSETTO:-0400
TZNAME:EDT
DTSTART:20200308T070000
END:DAYLIGHT
BEGIN:STANDARD
TZOFFSETFROM:-0400
TZOFFSETTO:-0500
TZNAME:EST
DTSTART:20201101T060000
END:STANDARD
BEGIN:DAYLIGHT
TZOFFSETFROM:-0500
TZOFFSETTO:-0400
TZNAME:EDT
DTSTART:20210314T070000
END:DAYLIGHT
BEGIN:STANDARD
TZOFFSETFROM:-0400
TZOFFSETTO:-0500
TZNAME:EST
DTSTART:20211107T060000
END:STANDARD
BEGIN:DAYLIGHT
TZOFFSETFROM:-0500
TZOFFSETTO:-0400
TZNAME:EDT
DTSTART:20220313T070000
END:DAYLIGHT
BEGIN:STANDARD
TZOFFSETFROM:-0400
TZOFFSETTO:-0500
TZNAME:EST
DTSTART:20221106T060000
END:STANDARD
TZID:America/New_York
BEGIN:DAYLIGHT
TZOFFSETFROM:-0500
TZOFFSETTO:-0400
TZNAME:EDT
DTSTART:20210314T070000
END:DAYLIGHT
BEGIN:STANDARD
TZOFFSETFROM:-0400
TZOFFSETTO:-0500
TZNAME:EST
DTSTART:20211107T060000
END:STANDARD
BEGIN:DAYLIGHT
TZOFFSETFROM:-0500
TZOFFSETTO:-0400
TZNAME:EDT
DTSTART:20220313T070000
END:DAYLIGHT
BEGIN:STANDARD
TZOFFSETFROM:-0400
TZOFFSETTO:-0500
TZNAME:EST
DTSTART:20221106T060000
END:STANDARD
TZID:Asia/Karachi
BEGIN:STANDARD
TZOFFSETFROM:+0500
TZOFFSETTO:+0500
TZNAME:PKT
DTSTART:20200101T000000
END:STANDARD
TZID:UTC
BEGIN:STANDARD
TZOFFSETFROM:+0000
TZOFFSETTO:+0000
TZNAME:UTC
DTSTART:20200101T000000
END:STANDARD
TZID:America/Chicago
BEGIN:DAYLIGHT
TZOFFSETFROM:-0600
TZOFFSETTO:-0500
TZNAME:CDT
DTSTART:20200308T080000
END:DAYLIGHT
BEGIN:STANDARD
TZOFFSETFROM:-0500
TZOFFSETTO:-0600
TZNAME:CST
DTSTART:20201101T070000
END:STANDARD
END:VTIMEZONE
BEGIN:VEVENT
DTSTART;TZID=America/New_York:20220225T130000
DTEND;TZID=America/New_York:20220225T140000
DTSTAMP:20260425T090122
CREATED:20220220T235648Z
LAST-MODIFIED:20220225T164546Z
UID:4229-1645794000-1645797600@www.kwrainbownetwork.com
SUMMARY:Diversity Committee Mastermind - Zoom
DESCRIPTION:Please login to view event details
URL:https://www.kwrainbownetwork.com/event/diversity-committee-mastermind/
CATEGORIES:Featured Events
ATTACH;FMTTYPE=image/jpeg:https://www.kwrainbownetwork.com/wp-content/uploads/2022/02/diversity-committe.jpg
END:VEVENT
BEGIN:VEVENT
DTSTART;TZID=America/New_York:20220219T090000
DTEND;TZID=America/New_York:20220219T120000
DTSTAMP:20260425T090122
CREATED:20220114T192159Z
LAST-MODIFIED:20220213T224407Z
UID:3134-1645261200-1645272000@www.kwrainbownetwork.com
SUMMARY:Rainbow Mastermind - KWFR '22
DESCRIPTION:Please login to view event details
URL:https://www.kwrainbownetwork.com/event/rainbow-mastermind-kwfr-22/
CATEGORIES:Featured Events
ATTACH;FMTTYPE=image/png:https://www.kwrainbownetwork.com/wp-content/uploads/2022/01/Mastermind.png
END:VEVENT
BEGIN:VEVENT
DTSTART;TZID=America/New_York:20220218T173000
DTEND;TZID=America/New_York:20220218T193000
DTSTAMP:20260425T090122
CREATED:20220114T015703Z
LAST-MODIFIED:20220114T204805Z
UID:3070-1645205400-1645212600@www.kwrainbownetwork.com
SUMMARY:KWRN - Mixer KWFR '22
DESCRIPTION:Please login to view event details
URL:https://www.kwrainbownetwork.com/event/kwrn-mixer-kwfr-22/
LOCATION:Orlando Convention Center\, 9400 Universal Blvd\, Orlando\, FL\, 32819\, United States
CATEGORIES:family reunion,Featured Events,mixer,networking
ATTACH;FMTTYPE=image/jpeg:https://www.kwrainbownetwork.com/wp-content/uploads/2022/01/Mixer-22.jpeg
END:VEVENT
BEGIN:VEVENT
DTSTART;TZID=America/New_York:20220217T100000
DTEND;TZID=America/New_York:20220217T170000
DTSTAMP:20260425T090122
CREATED:20220113T160640Z
LAST-MODIFIED:20220114T181907Z
UID:2932-1645092000-1645117200@www.kwrainbownetwork.com
SUMMARY:KWRN Disney Day
DESCRIPTION:Please login to view event details
URL:https://www.kwrainbownetwork.com/event/kwrn-disney-day/
CATEGORIES:Featured Events
ATTACH;FMTTYPE=image/png:https://www.kwrainbownetwork.com/wp-content/uploads/2022/01/DisneyDay.png
END:VEVENT
BEGIN:VEVENT
DTSTART;TZID=America/New_York:20210914T153000
DTEND;TZID=America/New_York:20210914T163000
DTSTAMP:20260425T090122
CREATED:20210312T180904Z
LAST-MODIFIED:20220624T165202Z
UID:2153-1631633400-1631637000@www.kwrainbownetwork.com
SUMMARY:Marketing & Promotions Committee
DESCRIPTION:Please login to view event details
URL:https://www.kwrainbownetwork.com/event/marketing-promotions-committee-2021-09-21/
END:VEVENT
BEGIN:VEVENT
DTSTART;TZID=America/New_York:20210810T153000
DTEND;TZID=America/New_York:20210810T163000
DTSTAMP:20260425T090122
CREATED:20210312T180904Z
LAST-MODIFIED:20210819T171108Z
UID:2151-1628609400-1628613000@www.kwrainbownetwork.com
SUMMARY:Marketing & Promotions Committee
DESCRIPTION:Please login to view event details
URL:https://www.kwrainbownetwork.com/event/marketing-promotions-committee-2021-08-10/
END:VEVENT
BEGIN:VEVENT
DTSTART;TZID=America/New_York:20210603T130000
DTEND;TZID=America/New_York:20210603T140000
DTSTAMP:20260425T090122
CREATED:20210603T181033Z
LAST-MODIFIED:20210603T203248Z
UID:2432-1622725200-1622728800@www.kwrainbownetwork.com
SUMMARY:SPECIAL PRIDE EVENT with Jason Abrams
DESCRIPTION:Please login to view event details
URL:https://www.kwrainbownetwork.com/event/special-pride-event-with-jason-abrams/
END:VEVENT
BEGIN:VEVENT
DTSTART;TZID=America/New_York:20210601T170000
DTEND;TZID=America/New_York:20210601T180000
DTSTAMP:20260425T090122
CREATED:20210311T203547Z
LAST-MODIFIED:20220611T195535Z
UID:1992-1622566800-1622570400@www.kwrainbownetwork.com
SUMMARY:Education & Professional Development Committee
DESCRIPTION:Please login to view event details
URL:https://www.kwrainbownetwork.com/event/education-committee-2021-12-22/
END:VEVENT
BEGIN:VEVENT
DTSTART;TZID=America/New_York:20210526T170000
DTEND;TZID=America/New_York:20210526T170000
DTSTAMP:20260425T090122
CREATED:20210525T191412Z
LAST-MODIFIED:20210525T222822Z
UID:2358-1622048400-1622048400@www.kwrainbownetwork.com
SUMMARY:Listings Panel: Finding\, Getting\, and Working Listings (in a market that has none!)
DESCRIPTION:Please login to view event details
URL:https://www.kwrainbownetwork.com/event/listings-panel-finding-getting-and-working-listings-in-a-market-that-has-none/
END:VEVENT
BEGIN:VEVENT
DTSTART;TZID=America/New_York:20210407T120000
DTEND;TZID=America/New_York:20210407T130000
DTSTAMP:20260425T090122
CREATED:20201118T232741Z
LAST-MODIFIED:20220311T003022Z
UID:1888-1617796800-1617800400@www.kwrainbownetwork.com
SUMMARY:Rainbow Networking Zoom
DESCRIPTION:Please login to view event details
URL:https://www.kwrainbownetwork.com/event/kw-rainbow-networking-zoom-2021-04-07/
CATEGORIES:Featured Events,mastermind,networking,zoom
ATTACH;FMTTYPE=image/png:https://www.kwrainbownetwork.com/wp-content/uploads/2020/06/KWRN_Zoom_FB-Post-e1646961075935.png
END:VEVENT
BEGIN:VEVENT
DTSTART;TZID=America/New_York:20210325T170000
DTEND;TZID=America/New_York:20210325T180000
DTSTAMP:20260425T090122
CREATED:20210312T201919Z
LAST-MODIFIED:20220611T195645Z
UID:2099-1616691600-1616695200@www.kwrainbownetwork.com
SUMMARY:Growth & Membership Committee
DESCRIPTION:Please login to view event details
URL:https://www.kwrainbownetwork.com/event/growth-membership-committee/
END:VEVENT
BEGIN:VEVENT
DTSTART;TZID=America/New_York:20210325T160000
DTEND;TZID=America/New_York:20210325T170000
DTSTAMP:20260425T090122
CREATED:20210322T163817Z
LAST-MODIFIED:20211111T203345Z
UID:2211-1616688000-1616691600@www.kwrainbownetwork.com
SUMMARY:Social & Networking - Club Naugahyde
DESCRIPTION:Please login to view event details
URL:https://www.kwrainbownetwork.com/event/social-networking-club-naugahyde/
END:VEVENT
BEGIN:VEVENT
DTSTART;TZID=America/New_York:20210323T170000
DTEND;TZID=America/New_York:20210323T180000
DTSTAMP:20260425T090122
CREATED:20210317T210913Z
LAST-MODIFIED:20220310T023302Z
UID:2159-1616518800-1616522400@www.kwrainbownetwork.com
SUMMARY:Industry Relations Committee
DESCRIPTION:Please login to view event details
URL:https://www.kwrainbownetwork.com/event/industry-relations-committee/
END:VEVENT
BEGIN:VEVENT
DTSTART;TZID=America/New_York:20210316T133000
DTEND;TZID=America/New_York:20210316T143000
DTSTAMP:20260425T090122
CREATED:20210312T180904Z
LAST-MODIFIED:20210317T212749Z
UID:2051-1615901400-1615905000@www.kwrainbownetwork.com
SUMMARY:Marketing & Promotions Committee
DESCRIPTION:Please login to view event details
URL:https://www.kwrainbownetwork.com/event/marketing-promotions-committee/
END:VEVENT
BEGIN:VEVENT
DTSTART;TZID=America/New_York:20210224T190000
DTEND;TZID=America/New_York:20210224T200000
DTSTAMP:20260425T090122
CREATED:20210211T054852Z
LAST-MODIFIED:20210224T203421Z
UID:1930-1614193200-1614196800@www.kwrainbownetwork.com
SUMMARY:Love Always Wins - KWRN Celebrates Black History Month
DESCRIPTION:Please login to view event details
URL:https://www.kwrainbownetwork.com/event/love-always-wins-kwrn-celebrates-black-history-month/
CATEGORIES:networking,zoom
END:VEVENT
BEGIN:VEVENT
DTSTART;TZID=America/New_York:20210224T170000
DTEND;TZID=America/New_York:20210224T180000
DTSTAMP:20260425T090122
CREATED:20210213T073609Z
LAST-MODIFIED:20210224T203528Z
UID:1940-1614186000-1614189600@www.kwrainbownetwork.com
SUMMARY:Volunteer Orientation
DESCRIPTION:Please login to view event details
URL:https://www.kwrainbownetwork.com/event/volunteer-orientation/
END:VEVENT
BEGIN:VEVENT
DTSTART;TZID=America/New_York:20210215T180000
DTEND;TZID=America/New_York:20210215T200000
DTSTAMP:20260425T090122
CREATED:20210204T001625Z
LAST-MODIFIED:20210215T212248Z
UID:1913-1613412000-1613419200@www.kwrainbownetwork.com
SUMMARY:KW Rainbow Mastermind - Family Reunion 2021 - *VIRTUAL*
DESCRIPTION:Please login to view event details
URL:https://www.kwrainbownetwork.com/event/kw-rainbow-mastermind-family-reunion-2021-virtual/
END:VEVENT
BEGIN:VEVENT
DTSTART;TZID=Asia/Karachi:20201104T120000
DTEND;TZID=Asia/Karachi:20201104T130000
DTSTAMP:20260425T090123
CREATED:20201118T232741Z
LAST-MODIFIED:20210312T170805Z
UID:1735-1604491200-1604494800@www.kwrainbownetwork.com
SUMMARY:Rainbow Networking Zoom
DESCRIPTION:Please login to view event details
URL:https://www.kwrainbownetwork.com/event/kw-rainbow-networking-zoom/
CATEGORIES:networking,zoom
END:VEVENT
BEGIN:VEVENT
DTSTART;VALUE=DATE:20200915
DTEND;VALUE=DATE:20200918
DTSTAMP:20260425T090123
CREATED:20200815T002002Z
LAST-MODIFIED:20200815T002002Z
UID:558-1600138800-1600387199@www.kwrainbownetwork.com
SUMMARY:MegaCamp 2020
DESCRIPTION:Please login to view event details
URL:https://www.kwrainbownetwork.com/event/megacamp-2020/
END:VEVENT
BEGIN:VEVENT
DTSTART;TZID=America/Chicago:20200914T100000
DTEND;TZID=America/Chicago:20200914T160000
DTSTAMP:20260425T090123
CREATED:20200815T005642Z
LAST-MODIFIED:20200912T214758Z
UID:567-1600077600-1600099200@www.kwrainbownetwork.com
SUMMARY:Rainbow Camp
DESCRIPTION:Please login to view event details
URL:https://www.kwrainbownetwork.com/event/rainbow-camp/
END:VEVENT
BEGIN:VEVENT
DTSTART;TZID=America/New_York:20200820T110000
DTEND;TZID=America/New_York:20200820T120000
DTSTAMP:20260425T090123
CREATED:20200815T030512Z
LAST-MODIFIED:20201118T224952Z
UID:704-1597921200-1597924800@www.kwrainbownetwork.com
SUMMARY:KWRNetworking Zoom
DESCRIPTION:Please login to view event details
URL:https://www.kwrainbownetwork.com/event/kwrnetworking-zoom-6/
END:VEVENT
BEGIN:VEVENT
DTSTART;TZID=America/New_York:20200818T150000
DTEND;TZID=America/New_York:20200818T160000
DTSTAMP:20260425T090123
CREATED:20200815T031234Z
LAST-MODIFIED:20201118T224420Z
UID:584-1597762800-1597766400@www.kwrainbownetwork.com
SUMMARY:KWRNetworking Zoom
DESCRIPTION:Please login to view event details
URL:https://www.kwrainbownetwork.com/event/kkrnetworking-zoom/
CATEGORIES:mastermind,networking,zoom
END:VEVENT
BEGIN:VEVENT
DTSTART;TZID=America/New_York:20200709T110000
DTEND;TZID=America/New_York:20200709T120000
DTSTAMP:20260425T090123
CREATED:20200707T203801Z
LAST-MODIFIED:20200707T222710Z
UID:277-1594292400-1594296000@www.kwrainbownetwork.com
SUMMARY:KWRNetworking Zoom
DESCRIPTION:Please login to view event details
URL:https://www.kwrainbownetwork.com/event/kwrnetworking-zoom-5/
CATEGORIES:mastermind,networking,zoom
END:VEVENT
BEGIN:VEVENT
DTSTART;TZID=America/New_York:20200707T140000
DTEND;TZID=America/New_York:20200707T150000
DTSTAMP:20260425T090123
CREATED:20200703T003257Z
LAST-MODIFIED:20200707T222426Z
UID:273-1594130400-1594134000@www.kwrainbownetwork.com
SUMMARY:KWRNetworking Zoom
DESCRIPTION:Please login to view event details
URL:https://www.kwrainbownetwork.com/event/kwrnetworking-zoom-4/
CATEGORIES:mastermind,networking,zoom
END:VEVENT
BEGIN:VEVENT
DTSTART;TZID=America/New_York:20200630T110000
DTEND;TZID=America/New_York:20200630T120000
DTSTAMP:20260425T090123
CREATED:20200623T222231Z
LAST-MODIFIED:20200701T205316Z
UID:257-1593514800-1593518400@www.kwrainbownetwork.com
SUMMARY:KWRNetworking Zoom
DESCRIPTION:Please login to view event details
URL:https://www.kwrainbownetwork.com/event/kwrnetworking-zoom-3/
CATEGORIES:mastermind,networking,zoom
END:VEVENT
BEGIN:VEVENT
DTSTART;TZID=America/New_York:20200625T110000
DTEND;TZID=America/New_York:20200625T120000
DTSTAMP:20260425T090123
CREATED:20200623T215821Z
LAST-MODIFIED:20200623T215821Z
UID:253-1593082800-1593086400@www.kwrainbownetwork.com
SUMMARY:KWRNetworking Zoom
DESCRIPTION:Please login to view event details
URL:https://www.kwrainbownetwork.com/event/kwrnetworking-zoom-2/
CATEGORIES:mastermind,networking,zoom
END:VEVENT
END:VCALENDAR